BEGIN:VCALENDAR
VERSION:2.0
PRODID:-//Habitat for Humanity of Kent County - ECPv6.15.20//NONSGML v1.0//EN
CALSCALE:GREGORIAN
METHOD:PUBLISH
X-ORIGINAL-URL:https://www.habitatkent.org
X-WR-CALDESC:Events for Habitat for Humanity of Kent County
REFRESH-INTERVAL;VALUE=DURATION:PT1H
X-Robots-Tag:noindex
X-PUBLISHED-TTL:PT1H
BEGIN:VTIMEZONE
TZID:America/Detroit
BEGIN:DAYLIGHT
TZOFFSETFROM:-0500
TZOFFSETTO:-0400
TZNAME:EDT
DTSTART:20240310T070000
END:DAYLIGHT
BEGIN:STANDARD
TZOFFSETFROM:-0400
TZOFFSETTO:-0500
TZNAME:EST
DTSTART:20241103T060000
END:STANDARD
BEGIN:DAYLIGHT
TZOFFSETFROM:-0500
TZOFFSETTO:-0400
TZNAME:EDT
DTSTART:20250309T070000
END:DAYLIGHT
BEGIN:STANDARD
TZOFFSETFROM:-0400
TZOFFSETTO:-0500
TZNAME:EST
DTSTART:20251102T060000
END:STANDARD
BEGIN:DAYLIGHT
TZOFFSETFROM:-0500
TZOFFSETTO:-0400
TZNAME:EDT
DTSTART:20260308T070000
END:DAYLIGHT
BEGIN:STANDARD
TZOFFSETFROM:-0400
TZOFFSETTO:-0500
TZNAME:EST
DTSTART:20261101T060000
END:STANDARD
END:VTIMEZONE
BEGIN:VEVENT
DTSTART;TZID=America/Detroit:20250924T170000
DTEND;TZID=America/Detroit:20250924T190000
DTSTAMP:20260419T174440
CREATED:20250219T170806Z
LAST-MODIFIED:20250911T190838Z
UID:13083-1758733200-1758740400@www.habitatkent.org
SUMMARY:Women of Habitat Kent emPower Tools Workshop
DESCRIPTION:Join the Women of Habitat Kent for refreshments\, networking\, and creating a hands-on project using power tools and saws! You’ll make a small book stand that you’ll be able to take home. It’s perfect for beginners and seasoned DIYers alike! \nRegister here! Registration closes Wednesday\, September 17. \nTickets: \n\nMembers: $35 (check your August email update for your discount code)\nNon-members: $50\n\nThank you to ITC Inc. for sponsoring this event.
URL:https://www.habitatkent.org/event/september-2025-empower-tools/
LOCATION:Habitat Kent ReStore\, 1739 Elizabeth Ave NW\, Grand Rapids\, MI\, 49504\, United States
CATEGORIES:Community,Upcoming Events,Women of Habitat Kent
ORGANIZER;CN="Habitat Kent":MAILTO:homes@habitatkent.org
END:VEVENT
END:VCALENDAR