BEGIN:VCALENDAR
VERSION:2.0
PRODID:-//Habitat for Humanity of Kent County - ECPv6.15.20//NONSGML v1.0//EN
CALSCALE:GREGORIAN
METHOD:PUBLISH
X-WR-CALNAME:Habitat for Humanity of Kent County
X-ORIGINAL-URL:https://www.habitatkent.org
X-WR-CALDESC:Events for Habitat for Humanity of Kent County
REFRESH-INTERVAL;VALUE=DURATION:PT1H
X-Robots-Tag:noindex
X-PUBLISHED-TTL:PT1H
BEGIN:VTIMEZONE
TZID:America/Detroit
BEGIN:DAYLIGHT
TZOFFSETFROM:-0500
TZOFFSETTO:-0400
TZNAME:EDT
DTSTART:20240310T070000
END:DAYLIGHT
BEGIN:STANDARD
TZOFFSETFROM:-0400
TZOFFSETTO:-0500
TZNAME:EST
DTSTART:20241103T060000
END:STANDARD
BEGIN:DAYLIGHT
TZOFFSETFROM:-0500
TZOFFSETTO:-0400
TZNAME:EDT
DTSTART:20250309T070000
END:DAYLIGHT
BEGIN:STANDARD
TZOFFSETFROM:-0400
TZOFFSETTO:-0500
TZNAME:EST
DTSTART:20251102T060000
END:STANDARD
BEGIN:DAYLIGHT
TZOFFSETFROM:-0500
TZOFFSETTO:-0400
TZNAME:EDT
DTSTART:20260308T070000
END:DAYLIGHT
BEGIN:STANDARD
TZOFFSETFROM:-0400
TZOFFSETTO:-0500
TZNAME:EST
DTSTART:20261101T060000
END:STANDARD
END:VTIMEZONE
BEGIN:VEVENT
DTSTART;TZID=America/Detroit:20250812T100000
DTEND;TZID=America/Detroit:20250812T120000
DTSTAMP:20260419T193546
CREATED:20250210T210033Z
LAST-MODIFIED:20250709T160642Z
UID:12981-1754992800-1755000000@www.habitatkent.org
SUMMARY:Money Smart Class 2 of 4: Morning Series
DESCRIPTION:Learn about money management with our partner lender\, Mercantile Bank! This is a four-week course with classes held every Tuesday morning. Light refreshments provided. \nAttendance at all four classes is required.  \nCourse dates –  Tuesday:  \n\nAugust 5: Banking Basics \nAugust 12: Budgeting and Savings\nAugust 19: Understanding Credit\nAugust 26: Budgeting and Credit + One-on-one with a Mercantile staff member \n\nRegistration is required. Register here! \nCan’t make it in the morning? Join the evening series from 5:30 – 7:30!  
URL:https://www.habitatkent.org/event/money-smart-class-2-morning-august/
LOCATION:Baxter Community Center\, 935 Baxter St SE\, Grand Rapids\, 49506\, United States
CATEGORIES:Community,Upcoming Events
ORGANIZER;CN="Habitat Kent":MAILTO:homes@habitatkent.org
END:VEVENT
BEGIN:VEVENT
DTSTART;TZID=America/Detroit:20250812T173000
DTEND;TZID=America/Detroit:20250812T193000
DTSTAMP:20260419T193546
CREATED:20250210T210805Z
LAST-MODIFIED:20250709T161506Z
UID:12989-1755019800-1755027000@www.habitatkent.org
SUMMARY:Money Smart Class 2 of 4: Evening Series
DESCRIPTION:Learn about money management with our partner lender\, Mercantile Bank! This is a four-week course with classes held every Tuesday evening. Light dinner provided. \nAttendance at all four classes is required.  \nCourse dates –  Tuesday:  \n\nAugust 5: Banking Basics \nAugust 12: Budgeting and Savings\nAugust 19: Understanding Credit\nAugust 26: Budgeting and Credit + One-on-one with a Mercantile staff member \n\nRegistration is required. Register here! \nCan’t make it in the morning? Join the morning series from 10:00 – 12:00!
URL:https://www.habitatkent.org/event/money-smart-class-2-evening-august/
LOCATION:Baxter Community Center\, 935 Baxter St SE\, Grand Rapids\, 49506\, United States
CATEGORIES:Community,Upcoming Events
ORGANIZER;CN="Habitat Kent":MAILTO:homes@habitatkent.org
END:VEVENT
END:VCALENDAR