BEGIN:VCALENDAR
VERSION:2.0
PRODID:-//Habitat for Humanity of Kent County - ECPv6.15.20//NONSGML v1.0//EN
CALSCALE:GREGORIAN
METHOD:PUBLISH
X-ORIGINAL-URL:https://www.habitatkent.org
X-WR-CALDESC:Events for Habitat for Humanity of Kent County
REFRESH-INTERVAL;VALUE=DURATION:PT1H
X-Robots-Tag:noindex
X-PUBLISHED-TTL:PT1H
BEGIN:VTIMEZONE
TZID:America/Detroit
BEGIN:DAYLIGHT
TZOFFSETFROM:-0500
TZOFFSETTO:-0400
TZNAME:EDT
DTSTART:20240310T070000
END:DAYLIGHT
BEGIN:STANDARD
TZOFFSETFROM:-0400
TZOFFSETTO:-0500
TZNAME:EST
DTSTART:20241103T060000
END:STANDARD
BEGIN:DAYLIGHT
TZOFFSETFROM:-0500
TZOFFSETTO:-0400
TZNAME:EDT
DTSTART:20250309T070000
END:DAYLIGHT
BEGIN:STANDARD
TZOFFSETFROM:-0400
TZOFFSETTO:-0500
TZNAME:EST
DTSTART:20251102T060000
END:STANDARD
BEGIN:DAYLIGHT
TZOFFSETFROM:-0500
TZOFFSETTO:-0400
TZNAME:EDT
DTSTART:20260308T070000
END:DAYLIGHT
BEGIN:STANDARD
TZOFFSETFROM:-0400
TZOFFSETTO:-0500
TZNAME:EST
DTSTART:20261101T060000
END:STANDARD
END:VTIMEZONE
BEGIN:VEVENT
DTSTART;TZID=America/Detroit:20250625T170000
DTEND;TZID=America/Detroit:20250625T190000
DTSTAMP:20260419T224140
CREATED:20250219T165715Z
LAST-MODIFIED:20250219T165715Z
UID:13079-1750870800-1750878000@www.habitatkent.org
SUMMARY:Women of Habitat Kent Trolley Tour
DESCRIPTION:Join the Women of Habitat Kent for a networking reception before hopping on the trolley to tour significant Habitat Kent sites and hear impactful stories of homeownership. More details will be provided closer to the event date.
URL:https://www.habitatkent.org/event/june-2025-trolley-tour/
LOCATION:TBD
CATEGORIES:Community,Upcoming Events,Women of Habitat Kent
ORGANIZER;CN="Habitat Kent":MAILTO:homes@habitatkent.org
END:VEVENT
END:VCALENDAR