BEGIN:VCALENDAR
VERSION:2.0
PRODID:-//Habitat for Humanity of Kent County - ECPv6.15.20//NONSGML v1.0//EN
CALSCALE:GREGORIAN
METHOD:PUBLISH
X-WR-CALNAME:Habitat for Humanity of Kent County
X-ORIGINAL-URL:https://www.habitatkent.org
X-WR-CALDESC:Events for Habitat for Humanity of Kent County
REFRESH-INTERVAL;VALUE=DURATION:PT1H
X-Robots-Tag:noindex
X-PUBLISHED-TTL:PT1H
BEGIN:VTIMEZONE
TZID:America/Detroit
BEGIN:DAYLIGHT
TZOFFSETFROM:-0500
TZOFFSETTO:-0400
TZNAME:EDT
DTSTART:20240310T070000
END:DAYLIGHT
BEGIN:STANDARD
TZOFFSETFROM:-0400
TZOFFSETTO:-0500
TZNAME:EST
DTSTART:20241103T060000
END:STANDARD
BEGIN:DAYLIGHT
TZOFFSETFROM:-0500
TZOFFSETTO:-0400
TZNAME:EDT
DTSTART:20250309T070000
END:DAYLIGHT
BEGIN:STANDARD
TZOFFSETFROM:-0400
TZOFFSETTO:-0500
TZNAME:EST
DTSTART:20251102T060000
END:STANDARD
BEGIN:DAYLIGHT
TZOFFSETFROM:-0500
TZOFFSETTO:-0400
TZNAME:EDT
DTSTART:20260308T070000
END:DAYLIGHT
BEGIN:STANDARD
TZOFFSETFROM:-0400
TZOFFSETTO:-0500
TZNAME:EST
DTSTART:20261101T060000
END:STANDARD
END:VTIMEZONE
BEGIN:VEVENT
DTSTART;TZID=America/Detroit:20250506T173000
DTEND;TZID=America/Detroit:20250506T193000
DTSTAMP:20260420T082803
CREATED:20250205T204628Z
LAST-MODIFIED:20250422T165701Z
UID:12956-1746552600-1746559800@www.habitatkent.org
SUMMARY:Money Smart Class 1 of 4: Evening Series
DESCRIPTION:Learn about money management with our partner lender\, Mercantile Bank! This is a four-week course with classes held every Tuesday evening. Light dinner provided. \nAttendance at all four classes is required.  \nCourse dates –  Tuesday:  \n\nMay 6: Banking Basics \nMay 13: Budgeting and Savings\nMay 20: Understanding Credit\nMay 27: Budgeting and Credit + One-on-one with a Mercantile staff member \n\nRegistration is required. Please register here! \nCan’t make it in the evening? Join the morning series from 10:00 – 12:00!
URL:https://www.habitatkent.org/event/money-smart-class-1-evening-may/
LOCATION:Baxter Community Center\, 935 Baxter St SE\, Grand Rapids\, 49506\, United States
CATEGORIES:Community,Upcoming Events
ORGANIZER;CN="Habitat Kent":MAILTO:homes@habitatkent.org
END:VEVENT
BEGIN:VEVENT
DTSTART;TZID=America/Detroit:20250507T173000
DTEND;TZID=America/Detroit:20250507T193000
DTSTAMP:20260420T082803
CREATED:20250219T193550Z
LAST-MODIFIED:20250219T193955Z
UID:13119-1746639000-1746646200@www.habitatkent.org
SUMMARY:BLBC: Choosing & Defining our Issues
DESCRIPTION:Building Leaders\, Building Communities (BLBC) is a leadership program facilitated by local community members. It aims to enhance the leadership skills of residents\, advocates\, and leaders at all levels for effective community action and personal development. By the end of the program\, participants and facilitators will gain a deeper understanding of leadership\, teamwork\, and the tools necessary for community engagement. \nDetails: \n\nDate: Wednesdays (March 12 – May 21)\n5:30 pm to 6:00 pm – Dinner\, networking\, and speaker\n6:00 pm to 7:30 pm – Workshop
URL:https://www.habitatkent.org/event/blbc-choosing-defining-issues/
LOCATION:106 Gallery\, 106 Division Ave S\, Grand Rapids\, MI\, 49503\, United States
CATEGORIES:Community,Upcoming Events
ORGANIZER;CN="Dwelling Place":MAILTO:aconley@dpgr.org
END:VEVENT
BEGIN:VEVENT
DTSTART;TZID=America/Detroit:20250513T100000
DTEND;TZID=America/Detroit:20250513T120000
DTSTAMP:20260420T082803
CREATED:20250205T204107Z
LAST-MODIFIED:20250422T165802Z
UID:12950-1747130400-1747137600@www.habitatkent.org
SUMMARY:Money Smart Class 2 of 4: Morning Series
DESCRIPTION:Learn about money management with our partner lender\, Mercantile Bank! This is a four-week course with classes held every Tuesday morning. Light refreshments provided. \nAttendance at all four classes is required.  \nCourse dates –  Tuesday:  \n\nMay 6: Banking Basics \nMay 13: Budgeting and Savings\nMay 20: Understanding Credit\nMay 27: Budgeting and Credit + One-on-one with a Mercantile staff member \n\nRegistration is required. \nCan’t make it in the morning? Join the evening series from 5:30 – 7:30!  
URL:https://www.habitatkent.org/event/money-smart-class-2-morning-may/
LOCATION:Baxter Community Center\, 935 Baxter St SE\, Grand Rapids\, 49506\, United States
CATEGORIES:Community,Upcoming Events
ORGANIZER;CN="Habitat Kent":MAILTO:homes@habitatkent.org
END:VEVENT
BEGIN:VEVENT
DTSTART;TZID=America/Detroit:20250513T170000
DTEND;TZID=America/Detroit:20250513T180000
DTSTAMP:20260420T082803
CREATED:20250219T205348Z
LAST-MODIFIED:20250219T205348Z
UID:13137-1747155600-1747159200@www.habitatkent.org
SUMMARY:Baxter United Community Meeting
DESCRIPTION:Baxter United Community Meetings are open to Baxter residents and local businesses and organizations. These meetings are an opportunity for residents to meet others in the community who are looking for ways to be involved in the neighborhood. \nMeetings take place bi-weekly from 5:00 pm – 6:00 pm at Baxter Community Center. \nFor more information\, contact baxterunited.gr@gmail.com
URL:https://www.habitatkent.org/event/baxter-united-meeting-6/
LOCATION:Baxter Community Center\, 935 Baxter St SE\, Grand Rapids\, 49506\, United States
CATEGORIES:Community,Upcoming Events
ORGANIZER;CN="Baxter United":MAILTO:JCamacho@habitatkent.org
END:VEVENT
BEGIN:VEVENT
DTSTART;TZID=America/Detroit:20250513T173000
DTEND;TZID=America/Detroit:20250513T193000
DTSTAMP:20260420T082803
CREATED:20250205T204949Z
LAST-MODIFIED:20250422T170659Z
UID:12962-1747157400-1747164600@www.habitatkent.org
SUMMARY:Money Smart Class 2 of 4: Evening Series
DESCRIPTION:Learn about money management with our partner lender\, Mercantile Bank! This is a four-week course with classes held every Tuesday evening. Light dinner provided. \nAttendance at all four classes is required.  \nCourse dates –  Tuesday:  \n\nMay 6: Banking Basics \nMay 13: Budgeting and Savings\nMay 20: Understanding Credit\nMay 27: Budgeting and Credit + One-on-one with a Mercantile staff member \n\nRegistration is required. \nCan’t make it in the evening? Join the morning series from 10:00 – 12:00!
URL:https://www.habitatkent.org/event/money-smart-class-2-evening-may/
LOCATION:Baxter Community Center\, 935 Baxter St SE\, Grand Rapids\, 49506\, United States
CATEGORIES:Community,Upcoming Events
ORGANIZER;CN="Habitat Kent":MAILTO:homes@habitatkent.org
END:VEVENT
BEGIN:VEVENT
DTSTART;TZID=America/Detroit:20250514T173000
DTEND;TZID=America/Detroit:20250514T193000
DTSTAMP:20260420T082803
CREATED:20250219T193902Z
LAST-MODIFIED:20250219T193919Z
UID:13121-1747243800-1747251000@www.habitatkent.org
SUMMARY:BLBC: Understanding the Systems of Power
DESCRIPTION:Building Leaders\, Building Communities (BLBC) is a leadership program facilitated by local community members. It aims to enhance the leadership skills of residents\, advocates\, and leaders at all levels for effective community action and personal development. By the end of the program\, participants and facilitators will gain a deeper understanding of leadership\, teamwork\, and the tools necessary for community engagement. \nDetails: \n\nDate: Wednesdays (March 12 – May 21)\n5:30 pm to 6:00 pm – Dinner\, networking\, and speaker\n6:00 pm to 7:30 pm – Workshop
URL:https://www.habitatkent.org/event/blbc-understanding-systems/
LOCATION:106 Gallery\, 106 Division Ave S\, Grand Rapids\, MI\, 49503\, United States
CATEGORIES:Community,Upcoming Events
ORGANIZER;CN="Dwelling Place":MAILTO:aconley@dpgr.org
END:VEVENT
BEGIN:VEVENT
DTSTART;TZID=America/Detroit:20250515T113000
DTEND;TZID=America/Detroit:20250515T130000
DTSTAMP:20260420T082803
CREATED:20250326T173121Z
LAST-MODIFIED:20250326T173605Z
UID:13425-1747308600-1747314000@www.habitatkent.org
SUMMARY:Imagine Campaign Lunch & Learn: Option 2 of 3
DESCRIPTION:Join us for a special Lunch & Learn to explore Habitat Kent’s Imagine Campaign\, our most ambitious effort yet to address the critical need for affordable housing in Grand Rapids. \nOver the next three years\, we’re partnering with families\, for-profit developers\, third-party lenders\, and community members to create 100 new homeownership opportunities and engaging 450 residents in neighborhood revitalization efforts. \nEnjoy a complimentary lunch\, connect with fellow housing advocates\, and take a brief walking tour of one of our exciting new developments. Don’t miss this chance to see firsthand how we’re building a stronger\, more inclusive community — together! \nWhen: Thursday\, May 15\, 2025\n \n\nDoors open at 11:30 am\nPresentation begins promptly at 12 pm followed by a walking tour\nEvent concludes at 1 pm\n\nWhere: Habitat Kent’s Office (425 Pleasant St SW\, 49503) \nREGISTRATION REQUIRED: CLICK HERE to register by May 12 \n\nCan’t make May 15? Join us on one of our other two dates: \n\nThursday\, April 24\, 11:30 – 1 pm\nThursday\, June 12\, 11:30 – 1 pm
URL:https://www.habitatkent.org/event/imagine-campaign-lunch-learn-may-15/
LOCATION:Habitat Kent\, 1739 Elizabeth Ave NW\, Grand Rapids\, MI\, 49504\, United States
CATEGORIES:Community,Upcoming Events
ORGANIZER;CN="Habitat Kent":MAILTO:homes@habitatkent.org
END:VEVENT
BEGIN:VEVENT
DTSTART;TZID=America/Detroit:20250516T090000
DTEND;TZID=America/Detroit:20250516T160000
DTSTAMP:20260420T082803
CREATED:20250219T153005Z
LAST-MODIFIED:20250219T153005Z
UID:13072-1747386000-1747411200@www.habitatkent.org
SUMMARY:Women Build
DESCRIPTION:Join the Women of Habitat Kent for a day of service on a Habitat construction site as we build a home! No experience\, tools\, or skills are necessary to participate – we will show you how! Construction tasks may include deconstruction\, framing\, painting\, trim carpentry\, exterior trim\, siding\, final details\, & landscaping. \nRegister here! (Please note that clicking this link will bring you to another page) \nThank you to Allegiant Wealth Strategies for sponsoring this event.
URL:https://www.habitatkent.org/event/may-2025-women-build/
LOCATION:TBD
CATEGORIES:Community,Upcoming Events,Women of Habitat Kent
ORGANIZER;CN="Habitat Kent":MAILTO:homes@habitatkent.org
END:VEVENT
BEGIN:VEVENT
DTSTART;TZID=America/Detroit:20250520T100000
DTEND;TZID=America/Detroit:20250520T120000
DTSTAMP:20260420T082803
CREATED:20250205T204216Z
LAST-MODIFIED:20250422T170512Z
UID:12952-1747735200-1747742400@www.habitatkent.org
SUMMARY:Money Smart Class 3 of 4: Morning Series
DESCRIPTION:Learn about money management with our partner lender\, Mercantile Bank! This is a four-week course with classes held every Tuesday morning. Light refreshments provided. \nAttendance at all four classes is required.  \nCourse dates –  Tuesday:  \n\nMay 6: Banking Basics \nMay 13: Budgeting and Savings\nMay 20: Understanding Credit\nMay 27: Budgeting and Credit + One-on-one with a Mercantile staff member \n\nRegistration is required. \nCan’t make it in the morning? Join the evening series from 5:30 – 7:30!
URL:https://www.habitatkent.org/event/money-smart-class-3-morning-may/
LOCATION:Baxter Community Center\, 935 Baxter St SE\, Grand Rapids\, 49506\, United States
CATEGORIES:Community,Upcoming Events
ORGANIZER;CN="Habitat Kent":MAILTO:homes@habitatkent.org
END:VEVENT
BEGIN:VEVENT
DTSTART;TZID=America/Detroit:20250520T173000
DTEND;TZID=America/Detroit:20250520T193000
DTSTAMP:20260420T082803
CREATED:20250205T205124Z
LAST-MODIFIED:20250422T170620Z
UID:12964-1747762200-1747769400@www.habitatkent.org
SUMMARY:Money Smart Class 3 of 4: Evening Series
DESCRIPTION:Learn about money management with our partner lender\, Mercantile Bank! This is a four-week course with classes held every Tuesday evening. Light dinner provided. \nAttendance at all four classes is required.  \nCourse dates –  Tuesday:  \n\nMay 6: Banking Basics \nMay 13: Budgeting and Savings\nMay 20: Understanding Credit\nMay 27: Budgeting and Credit + One-on-one with a Mercantile staff member \n\nRegistration is required. \nCan’t make it in the evening? Join the morning series from 10:00 – 12:00!
URL:https://www.habitatkent.org/event/money-smart-class-3-evening-may/
LOCATION:Baxter Community Center\, 935 Baxter St SE\, Grand Rapids\, 49506\, United States
CATEGORIES:Community,Upcoming Events
ORGANIZER;CN="Habitat Kent":MAILTO:homes@habitatkent.org
END:VEVENT
BEGIN:VEVENT
DTSTART;TZID=America/Detroit:20250521T173000
DTEND;TZID=America/Detroit:20250521T183000
DTSTAMP:20260420T082803
CREATED:20250219T194258Z
LAST-MODIFIED:20250219T194258Z
UID:13125-1747848600-1747852200@www.habitatkent.org
SUMMARY:BLBC: Building Your Community Change Plan
DESCRIPTION:Building Leaders\, Building Communities (BLBC) is a leadership program facilitated by local community members. It aims to enhance the leadership skills of residents\, advocates\, and leaders at all levels for effective community action and personal development. By the end of the program\, participants and facilitators will gain a deeper understanding of leadership\, teamwork\, and the tools necessary for community engagement. \nDetails: \n\nDate: Wednesdays (March 12 – May 21)\n5:30 pm to 6:00 pm – Dinner\, networking\, and speaker\n6:00 pm to 7:30 pm – Workshop
URL:https://www.habitatkent.org/event/blbc-community-change-plan/
LOCATION:106 Gallery\, 106 Division Ave S\, Grand Rapids\, MI\, 49503\, United States
CATEGORIES:Community,Upcoming Events
ORGANIZER;CN="Dwelling Place":MAILTO:aconley@dpgr.org
END:VEVENT
BEGIN:VEVENT
DTSTART;TZID=America/Detroit:20250527T100000
DTEND;TZID=America/Detroit:20250527T120000
DTSTAMP:20260420T082803
CREATED:20250205T204341Z
LAST-MODIFIED:20250422T170736Z
UID:12954-1748340000-1748347200@www.habitatkent.org
SUMMARY:Money Smart Class 4 of 4: Morning Series
DESCRIPTION:Learn about money management with our partner lender\, Mercantile Bank! This is a four-week course with classes held every Tuesday morning. Light refreshments provided. \nAttendance at all four classes is required.  \nCourse dates –  Tuesday:  \n\nMay 6: Banking Basics \nMay 13: Budgeting and Savings\nMay 20: Understanding Credit\nMay 27: Budgeting and Credit + One-on-one with a Mercantile staff member \n\nRegistration is required \nCan’t make it in the morning? Join the evening series from 5:30 – 7:30!
URL:https://www.habitatkent.org/event/money-smart-class-4-morning-may/
LOCATION:Baxter Community Center\, 935 Baxter St SE\, Grand Rapids\, 49506\, United States
CATEGORIES:Community,Upcoming Events
ORGANIZER;CN="Habitat Kent":MAILTO:homes@habitatkent.org
END:VEVENT
BEGIN:VEVENT
DTSTART;TZID=America/Detroit:20250527T170000
DTEND;TZID=America/Detroit:20250527T180000
DTSTAMP:20260420T082803
CREATED:20250219T205621Z
LAST-MODIFIED:20250219T205621Z
UID:13139-1748365200-1748368800@www.habitatkent.org
SUMMARY:Baxter United Community Meeting
DESCRIPTION:Baxter United Community Meetings are open to Baxter residents and local businesses and organizations. These meetings are an opportunity for residents to meet others in the community who are looking for ways to be involved in the neighborhood. \nMeetings take place bi-weekly from 5:00 pm – 6:00 pm at Baxter Community Center. \nFor more information\, contact baxterunited.gr@gmail.com
URL:https://www.habitatkent.org/event/baxter-united-meeting-7/
LOCATION:Baxter Community Center\, 935 Baxter St SE\, Grand Rapids\, 49506\, United States
CATEGORIES:Community,Upcoming Events
ORGANIZER;CN="Baxter United":MAILTO:JCamacho@habitatkent.org
END:VEVENT
BEGIN:VEVENT
DTSTART;TZID=America/Detroit:20250527T173000
DTEND;TZID=America/Detroit:20250527T193000
DTSTAMP:20260420T082803
CREATED:20250205T205236Z
LAST-MODIFIED:20250422T170830Z
UID:12966-1748367000-1748374200@www.habitatkent.org
SUMMARY:Money Smart Class 4 of 4: Evening Series
DESCRIPTION:Learn about money management with our partner lender\, Mercantile Bank! This is a four-week course with classes held every Tuesday evening. Light dinner provided. \nAttendance at all four classes is required.  \nCourse dates –  Tuesday:  \n\nMay 6: Banking Basics \nMay 13: Budgeting and Savings\nMay 20: Understanding Credit\nMay 27: Budgeting and Credit + One-on-one with a Mercantile staff member \n\nRegistration is required. \nCan’t make it in the evening? Join the morning series from 10:00 – 12:00!
URL:https://www.habitatkent.org/event/money-smart-class-4-evening-may/
LOCATION:Baxter Community Center\, 935 Baxter St SE\, Grand Rapids\, 49506\, United States
CATEGORIES:Community,Upcoming Events
ORGANIZER;CN="Habitat Kent":MAILTO:homes@habitatkent.org
END:VEVENT
END:VCALENDAR