BEGIN:VCALENDAR
VERSION:2.0
PRODID:-//Habitat for Humanity of Kent County - ECPv6.15.20//NONSGML v1.0//EN
CALSCALE:GREGORIAN
METHOD:PUBLISH
X-ORIGINAL-URL:https://www.habitatkent.org
X-WR-CALDESC:Events for Habitat for Humanity of Kent County
REFRESH-INTERVAL;VALUE=DURATION:PT1H
X-Robots-Tag:noindex
X-PUBLISHED-TTL:PT1H
BEGIN:VTIMEZONE
TZID:America/Detroit
BEGIN:DAYLIGHT
TZOFFSETFROM:-0500
TZOFFSETTO:-0400
TZNAME:EDT
DTSTART:20240310T070000
END:DAYLIGHT
BEGIN:STANDARD
TZOFFSETFROM:-0400
TZOFFSETTO:-0500
TZNAME:EST
DTSTART:20241103T060000
END:STANDARD
BEGIN:DAYLIGHT
TZOFFSETFROM:-0500
TZOFFSETTO:-0400
TZNAME:EDT
DTSTART:20250309T070000
END:DAYLIGHT
BEGIN:STANDARD
TZOFFSETFROM:-0400
TZOFFSETTO:-0500
TZNAME:EST
DTSTART:20251102T060000
END:STANDARD
BEGIN:DAYLIGHT
TZOFFSETFROM:-0500
TZOFFSETTO:-0400
TZNAME:EDT
DTSTART:20260308T070000
END:DAYLIGHT
BEGIN:STANDARD
TZOFFSETFROM:-0400
TZOFFSETTO:-0500
TZNAME:EST
DTSTART:20261101T060000
END:STANDARD
END:VTIMEZONE
BEGIN:VEVENT
DTSTART;TZID=America/Detroit:20250401T170000
DTEND;TZID=America/Detroit:20250401T180000
DTSTAMP:20260420T095615
CREATED:20250219T204323Z
LAST-MODIFIED:20250219T204740Z
UID:13131-1743526800-1743530400@www.habitatkent.org
SUMMARY:Baxter United Community Meeting
DESCRIPTION:Baxter United Community Meetings are open to Baxter residents and local businesses and organizations. These meetings are an opportunity for residents to meet others in the community who are looking for ways to be involved in the neighborhood. \nMeetings take place bi-weekly from 5:00 pm – 6:00 pm at Baxter Community Center. \nFor more information\, contact baxterunited.gr@gmail.com
URL:https://www.habitatkent.org/event/baxter-united-meeting-3/
LOCATION:Baxter Community Center\, 935 Baxter St SE\, Grand Rapids\, 49506\, United States
CATEGORIES:Community,Upcoming Events
ORGANIZER;CN="Baxter United":MAILTO:JCamacho@habitatkent.org
END:VEVENT
BEGIN:VEVENT
DTSTART;TZID=America/Detroit:20250402T173000
DTEND;TZID=America/Detroit:20250402T193000
DTSTAMP:20260420T095615
CREATED:20250219T192135Z
LAST-MODIFIED:20250219T192135Z
UID:13111-1743615000-1743622200@www.habitatkent.org
SUMMARY:BLBC: Team Strengths
DESCRIPTION:Building Leaders\, Building Communities (BLBC) is a leadership program facilitated by local community members. It aims to enhance the leadership skills of residents\, advocates\, and leaders at all levels for effective community action and personal development. By the end of the program\, participants and facilitators will gain a deeper understanding of leadership\, teamwork\, and the tools necessary for community engagement. \nDetails: \n\nDate: Wednesdays (March 12 – May 21)\n5:30 pm to 6:00 pm – Dinner\, networking\, and speaker\n6:00 pm to 7:30 pm – Workshop\nRegister here! (Registration ends Monday\, May 5)
URL:https://www.habitatkent.org/event/blbc-team-strengths/
LOCATION:106 Gallery\, 106 Division Ave S\, Grand Rapids\, MI\, 49503\, United States
CATEGORIES:Community,Upcoming Events
ORGANIZER;CN="Dwelling Place":MAILTO:aconley@dpgr.org
END:VEVENT
BEGIN:VEVENT
DTSTART;TZID=America/Detroit:20250408T173000
DTEND;TZID=America/Detroit:20250408T190000
DTSTAMP:20260420T095615
CREATED:20250219T182916Z
LAST-MODIFIED:20250219T182916Z
UID:13097-1744133400-1744138800@www.habitatkent.org
SUMMARY:Baxter BINGO
DESCRIPTION:Are you a Baxter resident? Join Baxter United and Sherman Street Church for BINGO! Drinks\, snacks\, and prizes will be provided.
URL:https://www.habitatkent.org/event/baxter-bingo-4/
LOCATION:Sherman Street Curch Community Room\, 1000 Sherman St SE\, Grand Rapids\, MI\, 49506\, United States
CATEGORIES:Community,Upcoming Events
ORGANIZER;CN="Baxter United":MAILTO:JCamacho@habitatkent.org
END:VEVENT
BEGIN:VEVENT
DTSTART;TZID=America/Detroit:20250412T090000
DTEND;TZID=America/Detroit:20250412T120000
DTSTAMP:20260420T095615
CREATED:20250217T210147Z
LAST-MODIFIED:20250408T140449Z
UID:13065-1744448400-1744459200@www.habitatkent.org
SUMMARY:Home Maintenance Class
DESCRIPTION:Spend the morning with Habitat Kent’s Construction team at a completed Habitat house to learn about important home maintenance skills like furnace and water heater maintenance\, how to patch drywall\, yard maintenance\, and more! Lunch will be provided. \nThis class is free to attend and open to the public. \nRegistration is required. CLICK HERE TO REGISTER
URL:https://www.habitatkent.org/event/april-2025-home-maintenance-class/
LOCATION:Habitat Kent House\, 444 Pleasant St SW\, Grand Rapids\, MI\, 49503\, United States
CATEGORIES:Community,Upcoming Events
ORGANIZER;CN="Habitat Kent":MAILTO:homes@habitatkent.org
END:VEVENT
BEGIN:VEVENT
DTSTART;TZID=America/Detroit:20250415T170000
DTEND;TZID=America/Detroit:20250415T180000
DTSTAMP:20260420T095615
CREATED:20250219T204626Z
LAST-MODIFIED:20250219T211010Z
UID:13133-1744736400-1744740000@www.habitatkent.org
SUMMARY:Baxter United Community Meeting
DESCRIPTION:Baxter United Community Meetings are open to Baxter residents and local businesses and organizations. These meetings are an opportunity for residents to meet others in the community who are looking for ways to be involved in the neighborhood. \nMeetings take place bi-weekly from 5:00 pm – 6:00 pm at Baxter Community Center. \nFor more information\, contact baxterunited.gr@gmail.com
URL:https://www.habitatkent.org/event/baxter-united-meeting-4/
LOCATION:Baxter Community Center\, 935 Baxter St SE\, Grand Rapids\, 49506\, United States
CATEGORIES:Community,Upcoming Events
ORGANIZER;CN="Baxter United":MAILTO:JCamacho@habitatkent.org
END:VEVENT
BEGIN:VEVENT
DTSTART;TZID=America/Detroit:20250416T173000
DTEND;TZID=America/Detroit:20250416T193000
DTSTAMP:20260420T095615
CREATED:20250219T192432Z
LAST-MODIFIED:20250219T192432Z
UID:13113-1744824600-1744831800@www.habitatkent.org
SUMMARY:BLBC: Community Assets
DESCRIPTION:Building Leaders\, Building Communities (BLBC) is a leadership program facilitated by local community members. It aims to enhance the leadership skills of residents\, advocates\, and leaders at all levels for effective community action and personal development. By the end of the program\, participants and facilitators will gain a deeper understanding of leadership\, teamwork\, and the tools necessary for community engagement. \nDetails: \n\nDate: Wednesdays (March 12 – May 21)\n5:30 pm to 6:00 pm – Dinner\, networking\, and speaker\n6:00 pm to 7:30 pm – Workshop\nRegister here! (Registration ends Monday\, May 5)
URL:https://www.habitatkent.org/event/blbc-community-assets/
LOCATION:106 Gallery\, 106 Division Ave S\, Grand Rapids\, MI\, 49503\, United States
CATEGORIES:Community,Upcoming Events
ORGANIZER;CN="Dwelling Place":MAILTO:aconley@dpgr.org
END:VEVENT
BEGIN:VEVENT
DTSTART;TZID=America/Detroit:20250422T163000
DTEND;TZID=America/Detroit:20250422T190000
DTSTAMP:20260420T095615
CREATED:20250206T185536Z
LAST-MODIFIED:20250403T130846Z
UID:12972-1745339400-1745348400@www.habitatkent.org
SUMMARY:Women of Habitat Kent Habi Hour with Chef Jenna
DESCRIPTION:Join us for a one-of-a-kind Habi Hour featuring the incredible Chef Jenna Arcidiacono of Amore Trattoria Italiana! Gather in the beautiful Williams Studio to enjoy delicious drinks\, appetizers\, and desserts while connecting with other women who are passionate about making a difference in affordable housing. Drinks and appetizers will be provided. Plus\, there will be a silent auction! \nTickets: \n\nWomen of Habitat Kent Members: $10 (check your monthly WOHK email for the promo code!)\nNon-member: $15 (want to become a member? Learn more here!)\n\nRegister here! (Please note that clicking this link will bring you to another page) \nRegistration closes Friday\, April 11. \nThank you to Williams for sponsoring this event.
URL:https://www.habitatkent.org/event/wohk-april-2025-habi-hour/
LOCATION:Williams Studio\, 3850 29th St SE\, Grand Rapids\, 49512\, United States
CATEGORIES:Community,Upcoming Events,Women of Habitat Kent
ORGANIZER;CN="Habitat Kent":MAILTO:homes@habitatkent.org
END:VEVENT
BEGIN:VEVENT
DTSTART;TZID=America/Detroit:20250424T113000
DTEND;TZID=America/Detroit:20250424T130000
DTSTAMP:20260420T095615
CREATED:20250326T172655Z
LAST-MODIFIED:20250326T173723Z
UID:13423-1745494200-1745499600@www.habitatkent.org
SUMMARY:Imagine Campaign Lunch & Learn: Option 1 of 3
DESCRIPTION:Join us for a special Lunch & Learn to explore Habitat Kent’s Imagine Campaign\, our most ambitious effort yet to address the critical need for affordable housing in Grand Rapids. \nOver the next three years\, we’re partnering with families\, for-profit developers\, third-party lenders\, and community members to create 100 new homeownership opportunities and engaging 450 residents in neighborhood revitalization efforts. \nEnjoy a complimentary lunch\, connect with fellow housing advocates\, and take a brief walking tour of one of our exciting new developments. Don’t miss this chance to see firsthand how we’re building a stronger\, more inclusive community — together! \nWhen: Thursday\, April 24\, 2025\n \n\nDoors open at 11:30 am\nPresentation begins promptly at 12 pm followed by a walking tour\nEvent concludes at 1 pm\n\nWhere: Habitat Kent’s Office (425 Pleasant St SW\, 49503) \nREGISTRATION REQUIRED: CLICK HERE to register by April 21\n\nCan’t make April 24? Join us on one of our other two dates: \n\nThursday\, May 15th\, 11:30 am – 1 pm\nThursday\, June 12th\, 11:30 am – 1 pm
URL:https://www.habitatkent.org/event/imagine-campaign-lunch-learn-april-24/
LOCATION:Habitat Kent\, 1739 Elizabeth Ave NW\, Grand Rapids\, MI\, 49504\, United States
CATEGORIES:Community,Upcoming Events
ORGANIZER;CN="Habitat Kent":MAILTO:homes@habitatkent.org
END:VEVENT
BEGIN:VEVENT
DTSTART;TZID=America/Detroit:20250424T203000
DTEND;TZID=America/Detroit:20250424T203000
DTSTAMP:20260420T095615
CREATED:20250204T194727Z
LAST-MODIFIED:20250228T160348Z
UID:12901-1745526600-1745526600@www.habitatkent.org
SUMMARY:Introduction to Homeownership Class 2 of 2
DESCRIPTION:Learn about fair housing and fair lending\, budgeting\, credit\, and more! This HUD-certified class is a prerequisite to applying for Michigan State Housing Development Authority down payment assistance.  \nThis is a 6-hour course that is split into two\, 3-hour classes:  \n\nClass #1: Tuesday\, April 22 @ 5:30 PM – 8:30 PM\nClass #2: Thursday\, April 24 @ 5:30 PM – 8:30 PM \n\nAttend both courses to get a HUD Certificate of Completion for down payment assistance programs. This class is free to attend and open to the public.  \nRegistration is required. CLICK HERE TO REGISTER
URL:https://www.habitatkent.org/event/introduction-to-homeownership-class-2-april/
LOCATION:Habitat Kent\, 1739 Elizabeth Ave NW\, Grand Rapids\, MI\, 49504\, United States
CATEGORIES:Community,Upcoming Events
ORGANIZER;CN="Habitat Kent":MAILTO:homes@habitatkent.org
END:VEVENT
BEGIN:VEVENT
DTSTART;TZID=America/Detroit:20250429T170000
DTEND;TZID=America/Detroit:20250429T180000
DTSTAMP:20260420T095615
CREATED:20250219T205058Z
LAST-MODIFIED:20250219T205058Z
UID:13135-1745946000-1745949600@www.habitatkent.org
SUMMARY:Baxter United Community Meeting
DESCRIPTION:Baxter United Community Meetings are open to Baxter residents and local businesses and organizations. These meetings are an opportunity for residents to meet others in the community who are looking for ways to be involved in the neighborhood. \nMeetings take place bi-weekly from 5:00 pm – 6:00 pm at Baxter Community Center. \nFor more information\, contact baxterunited.gr@gmail.com
URL:https://www.habitatkent.org/event/baxter-united-meeting-5/
LOCATION:Baxter Community Center\, 935 Baxter St SE\, Grand Rapids\, 49506\, United States
CATEGORIES:Community,Upcoming Events
ORGANIZER;CN="Baxter United":MAILTO:JCamacho@habitatkent.org
END:VEVENT
BEGIN:VEVENT
DTSTART;TZID=America/Detroit:20250430T173000
DTEND;TZID=America/Detroit:20250430T193000
DTSTAMP:20260420T095615
CREATED:20250219T193158Z
LAST-MODIFIED:20250219T193158Z
UID:13117-1746034200-1746041400@www.habitatkent.org
SUMMARY:BLBC: Telling our Story with Data
DESCRIPTION:Building Leaders\, Building Communities (BLBC) is a leadership program facilitated by local community members. It aims to enhance the leadership skills of residents\, advocates\, and leaders at all levels for effective community action and personal development. By the end of the program\, participants and facilitators will gain a deeper understanding of leadership\, teamwork\, and the tools necessary for community engagement. \nDetails: \n\nDate: Wednesdays (March 12 – May 21)\n5:30 pm to 6:00 pm – Dinner\, networking\, and speaker\n6:00 pm to 7:30 pm – Workshop\nRegister here! (Registration ends Monday\, May 5)
URL:https://www.habitatkent.org/event/blbc-telling-story-with-data/
LOCATION:106 Gallery\, 106 Division Ave S\, Grand Rapids\, MI\, 49503\, United States
CATEGORIES:Community,Upcoming Events
ORGANIZER;CN="Dwelling Place":MAILTO:aconley@dpgr.org
END:VEVENT
END:VCALENDAR