BEGIN:VCALENDAR
VERSION:2.0
PRODID:-//Habitat for Humanity of Kent County - ECPv6.15.20//NONSGML v1.0//EN
CALSCALE:GREGORIAN
METHOD:PUBLISH
X-WR-CALNAME:Habitat for Humanity of Kent County
X-ORIGINAL-URL:https://www.habitatkent.org
X-WR-CALDESC:Events for Habitat for Humanity of Kent County
REFRESH-INTERVAL;VALUE=DURATION:PT1H
X-Robots-Tag:noindex
X-PUBLISHED-TTL:PT1H
BEGIN:VTIMEZONE
TZID:America/Detroit
BEGIN:DAYLIGHT
TZOFFSETFROM:-0500
TZOFFSETTO:-0400
TZNAME:EDT
DTSTART:20240310T070000
END:DAYLIGHT
BEGIN:STANDARD
TZOFFSETFROM:-0400
TZOFFSETTO:-0500
TZNAME:EST
DTSTART:20241103T060000
END:STANDARD
BEGIN:DAYLIGHT
TZOFFSETFROM:-0500
TZOFFSETTO:-0400
TZNAME:EDT
DTSTART:20250309T070000
END:DAYLIGHT
BEGIN:STANDARD
TZOFFSETFROM:-0400
TZOFFSETTO:-0500
TZNAME:EST
DTSTART:20251102T060000
END:STANDARD
BEGIN:DAYLIGHT
TZOFFSETFROM:-0500
TZOFFSETTO:-0400
TZNAME:EDT
DTSTART:20260308T070000
END:DAYLIGHT
BEGIN:STANDARD
TZOFFSETFROM:-0400
TZOFFSETTO:-0500
TZNAME:EST
DTSTART:20261101T060000
END:STANDARD
END:VTIMEZONE
BEGIN:VEVENT
DTSTART;TZID=America/Detroit:20250304T170000
DTEND;TZID=America/Detroit:20250304T180000
DTSTAMP:20260420T082115
CREATED:20250219T203046Z
LAST-MODIFIED:20250219T203046Z
UID:13127-1741107600-1741111200@www.habitatkent.org
SUMMARY:Baxter United Community Meeting
DESCRIPTION:Baxter United Community Meetings are open to Baxter residents and local businesses and organizations. These meetings are an opportunity for residents to meet others in the community who are looking for ways to be involved in the neighborhood. \nMeetings take place bi-weekly from 5:00 pm – 6:00 pm at Baxter Community Center. \nFor more information\, contact baxterunited.gr@gmail.com
URL:https://www.habitatkent.org/event/baxter-united-meeting/
LOCATION:Baxter Community Center\, 935 Baxter St SE\, Grand Rapids\, 49506\, United States
CATEGORIES:Community,Upcoming Events
ORGANIZER;CN="Baxter United":MAILTO:JCamacho@habitatkent.org
END:VEVENT
BEGIN:VEVENT
DTSTART;TZID=America/Detroit:20250308T080000
DTEND;TZID=America/Detroit:20250308T160000
DTSTAMP:20260420T082115
CREATED:20250219T151905Z
LAST-MODIFIED:20250219T152119Z
UID:13069-1741420800-1741449600@www.habitatkent.org
SUMMARY:Women Build (International Women's Day)
DESCRIPTION:Join the Women of Habitat Kent for a day of service on a Habitat construction site as we build a home! No experience\, tools\, or skills are necessary to participate – we will show you how! Construction tasks may include deconstruction\, framing\, painting\, trim carpentry\, exterior trim\, siding\, final details\, & landscaping. \nRegister here! (Please note that clicking this link will bring you to another page)
URL:https://www.habitatkent.org/event/march-2025-women-build/
LOCATION:Habitat Kent House\, 444 Pleasant St SW\, Grand Rapids\, MI\, 49503\, United States
CATEGORIES:Community,Upcoming Events,Women of Habitat Kent
ORGANIZER;CN="Habitat Kent":MAILTO:homes@habitatkent.org
END:VEVENT
BEGIN:VEVENT
DTSTART;TZID=America/Detroit:20250311T173000
DTEND;TZID=America/Detroit:20250311T190000
DTSTAMP:20260420T082115
CREATED:20250219T182317Z
LAST-MODIFIED:20250219T182641Z
UID:13093-1741714200-1741719600@www.habitatkent.org
SUMMARY:Baxter BINGO
DESCRIPTION:Are you a Baxter resident? Join Baxter United and Sherman Street Church for BINGO on Tuesday evenings! Drinks\, snacks\, and prizes will be provided.
URL:https://www.habitatkent.org/event/baxter-bingo-2/
LOCATION:Sherman Street Curch Community Room\, 1000 Sherman St SE\, Grand Rapids\, MI\, 49506\, United States
CATEGORIES:Community,Upcoming Events
ORGANIZER;CN="Baxter United":MAILTO:JCamacho@habitatkent.org
END:VEVENT
BEGIN:VEVENT
DTSTART;TZID=America/Detroit:20250312T173000
DTEND;TZID=America/Detroit:20250312T193000
DTSTAMP:20260420T082115
CREATED:20250219T191005Z
LAST-MODIFIED:20250219T194318Z
UID:13102-1741800600-1741807800@www.habitatkent.org
SUMMARY:BLBC: Individual Strengths
DESCRIPTION:Building Leaders\, Building Communities (BLBC) is a leadership program facilitated by local community members. It aims to enhance the leadership skills of residents\, advocates\, and leaders at all levels for effective community action and personal development. By the end of the program\, participants and facilitators will gain a deeper understanding of leadership\, teamwork\, and the tools necessary for community engagement. \nDetails: \n\nDate: Wednesdays (March 12 – May 21)\n5:30 pm to 6:00 pm – Dinner\, networking\, and speaker\n6:00 pm to 7:30 pm – Workshop\nRegister here! (Registration ends Monday\, May 5)
URL:https://www.habitatkent.org/event/blbc-individual-strengths/
LOCATION:106 Gallery\, 106 Division Ave S\, Grand Rapids\, MI\, 49503\, United States
CATEGORIES:Community,Upcoming Events
ORGANIZER;CN="Dwelling Place":MAILTO:aconley@dpgr.org
END:VEVENT
BEGIN:VEVENT
DTSTART;TZID=America/Detroit:20250318T170000
DTEND;TZID=America/Detroit:20250318T180000
DTSTAMP:20260420T082115
CREATED:20250219T204108Z
LAST-MODIFIED:20250219T204108Z
UID:13129-1742317200-1742320800@www.habitatkent.org
SUMMARY:Baxter United Community Meeting
DESCRIPTION:Baxter United Community Meetings are open to Baxter residents and local businesses and organizations. These meetings are an opportunity for residents to meet others in the community who are looking for ways to be involved in the neighborhood. \nMeetings take place bi-weekly from 5:00 pm – 6:00 pm at Baxter Community Center. \nFor more information\, contact baxterunited.gr@gmail.com
URL:https://www.habitatkent.org/event/baxter-united-meeting-2/
LOCATION:Baxter Community Center\, 935 Baxter St SE\, Grand Rapids\, 49506\, United States
CATEGORIES:Community,Upcoming Events
ORGANIZER;CN="Baxter United":MAILTO:JCamacho@habitatkent.org
END:VEVENT
BEGIN:VEVENT
DTSTART;TZID=America/Detroit:20250319T173000
DTEND;TZID=America/Detroit:20250319T193000
DTSTAMP:20260420T082115
CREATED:20250219T191352Z
LAST-MODIFIED:20250219T191352Z
UID:13107-1742405400-1742412600@www.habitatkent.org
SUMMARY:BLBC: Race\, Equity\, Diversity\, and Inclusion
DESCRIPTION:Building Leaders\, Building Communities (BLBC) is a leadership program facilitated by local community members. It aims to enhance the leadership skills of residents\, advocates\, and leaders at all levels for effective community action and personal development. By the end of the program\, participants and facilitators will gain a deeper understanding of leadership\, teamwork\, and the tools necessary for community engagement. \nDetails: \n\nDate: Wednesdays (March 12 – May 21)\n5:30 pm to 6:00 pm – Dinner\, networking\, and speaker\n6:00 pm to 7:30 pm – Workshop\nRegister here! (Registration ends Monday\, May 5)
URL:https://www.habitatkent.org/event/blbc-race-equity-diversity-inclusion/
LOCATION:106 Gallery\, 106 Division Ave S\, Grand Rapids\, MI\, 49503\, United States
CATEGORIES:Community,Upcoming Events
ORGANIZER;CN="Dwelling Place":MAILTO:aconley@dpgr.org
END:VEVENT
BEGIN:VEVENT
DTSTART;TZID=America/Detroit:20250325T173000
DTEND;TZID=America/Detroit:20250325T190000
DTSTAMP:20260420T082115
CREATED:20250219T182606Z
LAST-MODIFIED:20250219T182606Z
UID:13095-1742923800-1742929200@www.habitatkent.org
SUMMARY:Baxter BINGO
DESCRIPTION:Are you a Baxter resident? Join Baxter United and Sherman Street Church for BINGO on Tuesday evenings! Drinks\, snacks\, and prizes will be provided.
URL:https://www.habitatkent.org/event/baxter-bingo-3/
LOCATION:Sherman Street Curch Community Room\, 1000 Sherman St SE\, Grand Rapids\, MI\, 49506\, United States
CATEGORIES:Community,Upcoming Events
ORGANIZER;CN="Baxter United":MAILTO:JCamacho@habitatkent.org
END:VEVENT
BEGIN:VEVENT
DTSTART;TZID=America/Detroit:20250326T173000
DTEND;TZID=America/Detroit:20250326T193000
DTSTAMP:20260420T082115
CREATED:20250219T191847Z
LAST-MODIFIED:20250219T191847Z
UID:13109-1743010200-1743017400@www.habitatkent.org
SUMMARY:BLBC: Discovering our Leadership Styles
DESCRIPTION:Building Leaders\, Building Communities (BLBC) is a leadership program facilitated by local community members. It aims to enhance the leadership skills of residents\, advocates\, and leaders at all levels for effective community action and personal development. By the end of the program\, participants and facilitators will gain a deeper understanding of leadership\, teamwork\, and the tools necessary for community engagement. \nDetails: \n\nDate: Wednesdays (March 12 – May 21)\n5:30 pm to 6:00 pm – Dinner\, networking\, and speaker\n6:00 pm to 7:30 pm – Workshop\nRegister here! (Registration ends Monday\, May 5)
URL:https://www.habitatkent.org/event/blbc-discovering-leadership-styles/
LOCATION:106 Gallery\, 106 Division Ave S\, Grand Rapids\, MI\, 49503\, United States
CATEGORIES:Community,Upcoming Events
ORGANIZER;CN="Dwelling Place":MAILTO:aconley@dpgr.org
END:VEVENT
END:VCALENDAR