BEGIN:VCALENDAR
VERSION:2.0
PRODID:-//Habitat for Humanity of Kent County - ECPv6.15.20//NONSGML v1.0//EN
CALSCALE:GREGORIAN
METHOD:PUBLISH
X-WR-CALNAME:Habitat for Humanity of Kent County
X-ORIGINAL-URL:https://www.habitatkent.org
X-WR-CALDESC:Events for Habitat for Humanity of Kent County
REFRESH-INTERVAL;VALUE=DURATION:PT1H
X-Robots-Tag:noindex
X-PUBLISHED-TTL:PT1H
BEGIN:VTIMEZONE
TZID:America/Detroit
BEGIN:DAYLIGHT
TZOFFSETFROM:-0500
TZOFFSETTO:-0400
TZNAME:EDT
DTSTART:20240310T070000
END:DAYLIGHT
BEGIN:STANDARD
TZOFFSETFROM:-0400
TZOFFSETTO:-0500
TZNAME:EST
DTSTART:20241103T060000
END:STANDARD
BEGIN:DAYLIGHT
TZOFFSETFROM:-0500
TZOFFSETTO:-0400
TZNAME:EDT
DTSTART:20250309T070000
END:DAYLIGHT
BEGIN:STANDARD
TZOFFSETFROM:-0400
TZOFFSETTO:-0500
TZNAME:EST
DTSTART:20251102T060000
END:STANDARD
BEGIN:DAYLIGHT
TZOFFSETFROM:-0500
TZOFFSETTO:-0400
TZNAME:EDT
DTSTART:20260308T070000
END:DAYLIGHT
BEGIN:STANDARD
TZOFFSETFROM:-0400
TZOFFSETTO:-0500
TZNAME:EST
DTSTART:20261101T060000
END:STANDARD
END:VTIMEZONE
BEGIN:VEVENT
DTSTART;TZID=America/Detroit:20250204T100000
DTEND;TZID=America/Detroit:20250204T120000
DTSTAMP:20260420T093626
CREATED:20250205T151731Z
LAST-MODIFIED:20250205T201832Z
UID:12919-1738663200-1738670400@www.habitatkent.org
SUMMARY:Money Smart Class 1 of 4: Morning Series
DESCRIPTION:Learn about money management with our partner lender\, Mercantile Bank! This is a four-week course with classes held every Tuesday in the morning and evening.  \nAttendance at all four classes is required. Sign up for the morning series or evening series.  \nCourse Dates – Tuesday: \n\nFebruary 4: Banking Basics\nFebruary 11: Budgeting and Savings\nFebruary 18: Understanding Credit\nFebruary 25: Budgeting and Credit + One-on-one with a Mercantile staff member \n\n Registration for this series is now closed. Join one of our later series this year!
URL:https://www.habitatkent.org/event/money-smart-class-1-morning-february/
LOCATION:Baxter Community Center\, 935 Baxter St SE\, Grand Rapids\, 49506\, United States
CATEGORIES:Community,Upcoming Events
END:VEVENT
BEGIN:VEVENT
DTSTART;TZID=America/Detroit:20250204T173000
DTEND;TZID=America/Detroit:20250204T193000
DTSTAMP:20260420T093626
CREATED:20250205T201612Z
LAST-MODIFIED:20250205T203436Z
UID:12921-1738690200-1738697400@www.habitatkent.org
SUMMARY:Money Smart Class 1 of 4: Evening Series
DESCRIPTION:Learn about money management with our partner lender\, Mercantile Bank! This is a four-week course with classes held every Tuesday evening. Dinner will be provided. \nAttendance at all four classes is required. \nCourse Dates – Tuesday: \n\nFebruary 4: Banking Basics\nFebruary 11: Budgeting and Savings\nFebruary 18: Understanding Credit\nFebruary 25: Budgeting and Credit + One-on-one with a Mercantile staff member \n\n Registration for this series is now closed. Join one of our later series this year!
URL:https://www.habitatkent.org/event/money-smart-class-1-evening-february/
LOCATION:Baxter Community Center\, 935 Baxter St SE\, Grand Rapids\, 49506\, United States
CATEGORIES:Community,Upcoming Events
ORGANIZER;CN="Habitat Kent":MAILTO:homes@habitatkent.org
END:VEVENT
BEGIN:VEVENT
DTSTART;TZID=America/Detroit:20250211T100000
DTEND;TZID=America/Detroit:20250211T120000
DTSTAMP:20260420T093626
CREATED:20250205T201757Z
LAST-MODIFIED:20250205T203415Z
UID:12926-1739268000-1739275200@www.habitatkent.org
SUMMARY:Money Smart Class 2 of 4: Morning Series
DESCRIPTION:Learn about money management with our partner lender\, Mercantile Bank! This is a four-week course with classes held every Tuesday morning. Refreshments provided. \nAttendance at all four classes is required.  \nCourse Dates – Tuesday: \n\nFebruary 4: Banking Basics\nFebruary 11: Budgeting and Savings\nFebruary 18: Understanding Credit\nFebruary 25: Budgeting and Credit + One-on-one with a Mercantile staff member \n\n Registration for this series is now closed. Join one of our later series this year!
URL:https://www.habitatkent.org/event/money-smart-class-2-morning-february/
LOCATION:Baxter Community Center\, 935 Baxter St SE\, Grand Rapids\, 49506\, United States
CATEGORIES:Community,Upcoming Events
ORGANIZER;CN="Habitat Kent":MAILTO:homes@habitatkent.org
END:VEVENT
BEGIN:VEVENT
DTSTART;TZID=America/Detroit:20250211T173000
DTEND;TZID=America/Detroit:20250211T193000
DTSTAMP:20260420T093626
CREATED:20250205T202017Z
LAST-MODIFIED:20250205T202017Z
UID:12928-1739295000-1739302200@www.habitatkent.org
SUMMARY:Money Smart Class 2 of 4: Evening Series
DESCRIPTION:Learn about money management with our partner lender\, Mercantile Bank! This is a four-week course with classes held every Tuesday evening. Dinner will be provided. \nAttendance at all four classes is required. Sign up for the morning series or evening series.  \nCourse Dates – Tuesday: \n\nFebruary 4: Banking Basics\nFebruary 11: Budgeting and Savings\nFebruary 18: Understanding Credit\nFebruary 25: Budgeting and Credit + One-on-one with a Mercantile staff member \n\n Registration for this series is now closed. Join one of our later series this year!
URL:https://www.habitatkent.org/event/money-smart-class-2-evening-february/
LOCATION:Baxter Community Center\, 935 Baxter St SE\, Grand Rapids\, 49506\, United States
CATEGORIES:Community,Upcoming Events
ORGANIZER;CN="Habitat Kent":MAILTO:homes@habitatkent.org
END:VEVENT
BEGIN:VEVENT
DTSTART;TZID=America/Detroit:20250218T100000
DTEND;TZID=America/Detroit:20250218T120000
DTSTAMP:20260420T093626
CREATED:20250205T202155Z
LAST-MODIFIED:20250205T203459Z
UID:12930-1739872800-1739880000@www.habitatkent.org
SUMMARY:Money Smart Class 3 of 4: Morning Series
DESCRIPTION:Learn about money management with our partner lender\, Mercantile Bank! This is a four-week course with classes held every Tuesday morning. Refreshments provided. \nAttendance at all four classes is required. \nCourse Dates – Tuesday: \n\nFebruary 4: Banking Basics\nFebruary 11: Budgeting and Savings\nFebruary 18: Understanding Credit\nFebruary 25: Budgeting and Credit + One-on-one with a Mercantile staff member \n\n Registration for this series is now closed. Join one of our later series this year!
URL:https://www.habitatkent.org/event/money-smart-class-3-morning-february/
LOCATION:Baxter Community Center\, 935 Baxter St SE\, Grand Rapids\, 49506\, United States
CATEGORIES:Community,Upcoming Events
ORGANIZER;CN="Habitat Kent":MAILTO:homes@habitatkent.org
END:VEVENT
BEGIN:VEVENT
DTSTART;TZID=America/Detroit:20250218T173000
DTEND;TZID=America/Detroit:20250218T193000
DTSTAMP:20260420T093626
CREATED:20250205T202325Z
LAST-MODIFIED:20250205T203518Z
UID:12932-1739899800-1739907000@www.habitatkent.org
SUMMARY:Money Smart Class 3 of 4: Evening Series
DESCRIPTION:Learn about money management with our partner lender\, Mercantile Bank! This is a four-week course with classes held every Tuesday evening. Dinner will be provided. \nAttendance at all four classes is required. \nCourse Dates – Tuesday: \n\nFebruary 4: Banking Basics\nFebruary 11: Budgeting and Savings\nFebruary 18: Understanding Credit\nFebruary 25: Budgeting and Credit + One-on-one with a Mercantile staff member \n\n Registration for this series is now closed. Join one of our later series this year!
URL:https://www.habitatkent.org/event/money-smart-class-3-evening-february/
LOCATION:Baxter Community Center\, 935 Baxter St SE\, Grand Rapids\, 49506\, United States
CATEGORIES:Community,Upcoming Events
ORGANIZER;CN="Habitat Kent":MAILTO:homes@habitatkent.org
END:VEVENT
BEGIN:VEVENT
DTSTART;TZID=America/Detroit:20250222T100000
DTEND;TZID=America/Detroit:20250222T113000
DTSTAMP:20260420T093626
CREATED:20250219T184503Z
LAST-MODIFIED:20250219T184503Z
UID:13099-1740218400-1740223800@www.habitatkent.org
SUMMARY:Baxter United's Café Chats
DESCRIPTION:Join Baxter United and Kenneth Cortez for Café Chats Session II: The Refill. Come for powerful conversation\, connection\, and community building. Plus\, get $5 off your first drink order while supplies last.
URL:https://www.habitatkent.org/event/baxter-uniteds-cafe-chats/
LOCATION:Scorpion Hearts Club\, 1035 Wealthy St SE\, Grand Rapids\, MI\, 49506\, United States
CATEGORIES:Community,Upcoming Events
ORGANIZER;CN="Baxter United":MAILTO:JCamacho@habitatkent.org
END:VEVENT
BEGIN:VEVENT
DTSTART;TZID=America/Detroit:20250225T100000
DTEND;TZID=America/Detroit:20250225T120000
DTSTAMP:20260420T093626
CREATED:20250205T202508Z
LAST-MODIFIED:20250205T203703Z
UID:12934-1740477600-1740484800@www.habitatkent.org
SUMMARY:Money Smart Class 4 of 4: Morning Series
DESCRIPTION:Learn about money management with our partner lender\, Mercantile Bank! This is a four-week course with classes held every Tuesday morning. Refreshments provided. \nAttendance at all four classes is required. \nCourse Dates – Tuesday: \n\nFebruary 4: Banking Basics\nFebruary 11: Budgeting and Savings\nFebruary 18: Understanding Credit\nFebruary 25: Budgeting and Credit + One-on-one with a Mercantile staff member \n\n Registration for this series is now closed. Join one of our later series this year!
URL:https://www.habitatkent.org/event/money-smart-class-4-morning-february/
LOCATION:Baxter Community Center\, 935 Baxter St SE\, Grand Rapids\, 49506\, United States
CATEGORIES:Community,Upcoming Events
ORGANIZER;CN="Habitat Kent":MAILTO:homes@habitatkent.org
END:VEVENT
BEGIN:VEVENT
DTSTART;TZID=America/Detroit:20250225T173000
DTEND;TZID=America/Detroit:20250225T190000
DTSTAMP:20260420T093626
CREATED:20250219T182007Z
LAST-MODIFIED:20250219T182952Z
UID:13089-1740504600-1740510000@www.habitatkent.org
SUMMARY:Baxter BINGO
DESCRIPTION:Are you a Baxter resident? Join Baxter United and Sherman Street Church for BINGO on Tuesday evenings! Drinks\, snacks\, and prizes will be provided.
URL:https://www.habitatkent.org/event/baxter-bingo/
LOCATION:Sherman Street Curch Community Room\, 1000 Sherman St SE\, Grand Rapids\, MI\, 49506\, United States
CATEGORIES:Community,Upcoming Events
ORGANIZER;CN="Baxter United":MAILTO:JCamacho@habitatkent.org
END:VEVENT
BEGIN:VEVENT
DTSTART;TZID=America/Detroit:20250225T173000
DTEND;TZID=America/Detroit:20250225T193000
DTSTAMP:20260420T093626
CREATED:20250205T202627Z
LAST-MODIFIED:20250205T203722Z
UID:12936-1740504600-1740511800@www.habitatkent.org
SUMMARY:Money Smart Class 4 of 4: Evening Series
DESCRIPTION:Learn about money management with our partner lender\, Mercantile Bank! This is a four-week course with classes held every Tuesday in the morning and evening.  \nAttendance at all four classes is required.  \nCourse Dates – Tuesday: \n\nFebruary 4: Banking Basics\nFebruary 11: Budgeting and Savings\nFebruary 18: Understanding Credit\nFebruary 25: Budgeting and Credit + One-on-one with a Mercantile staff member \n\n Registration for this series is now closed. Join one of our later series this year!
URL:https://www.habitatkent.org/event/money-smart-class-4-evening-february/
LOCATION:Baxter Community Center\, 935 Baxter St SE\, Grand Rapids\, 49506\, United States
CATEGORIES:Community,Upcoming Events
ORGANIZER;CN="Habitat Kent":MAILTO:homes@habitatkent.org
END:VEVENT
END:VCALENDAR